BEGIN:VCALENDAR
VERSION:2.0
PRODID:-//Canadian Authors Association - ECPv4.6.10.1//NONSGML v1.0//EN
CALSCALE:GREGORIAN
METHOD:PUBLISH
X-WR-CALNAME:Canadian Authors Association
X-ORIGINAL-URL:https://canadianauthors.org/national
X-WR-CALDESC:Events for Canadian Authors Association
BEGIN:VEVENT
DTSTART;VALUE=DATE:20180610
DTEND;VALUE=DATE:20180616
DTSTAMP:20260420T130025
CREATED:20180328T164428Z
LAST-MODIFIED:20180329T204545Z
UID:17527-1528588800-1529107199@canadianauthors.org
SUMMARY:Writing Retreat in Newfoundland
DESCRIPTION:Writing With Care is a unique writing retreat with award-winning mentors Lois Brown and Lori Clarke that provides one-on-one dramaturgy\, guided reflection and plenty of time to write in an inspiring setting. Participants are encouraged to bring consciousness to the habitual in order to be open to transformation. Now in its fourth year\, Writing With Care has gained a reputation as an outstanding opportunity for writers to dig deep into their practice and find new ways to distill their work.\n\nDeadline: Applications accepted until Friday\, April 28\, 2018\n\nRates: $750 – $1000 (plus 15% HST)\nRates include accommodations and delicious\, healthy meals. (vegetarian\, vegan and gluten free options available.)\n\nWho Should Apply: Writers working in any field: fiction\, nonfiction\, script writing\, poetry\, journal writing\, academic writing or anyone interested in exploring the creative process through writing. It can be very helpful for those who need to present publicly such as authors on tour or academics presenting papers. Space is limited.\n\nDetails: http://ochrehouse.ca/writing-with-care \n\nContact: Lisa Porter at info@ochrehouse.ca or 709-685-3307\n
URL:https://canadianauthors.org/national/event/writing-retreat-in-newfoundland/
LOCATION:Ochre Pit Cove\, Conception Bay\, Newfoundland\, Canada
CATEGORIES:Retreat
END:VEVENT
END:VCALENDAR