BEGIN:VCALENDAR
VERSION:2.0
PRODID:-//Canadian Authors Association - ECPv4.6.10.1//NONSGML v1.0//EN
CALSCALE:GREGORIAN
METHOD:PUBLISH
X-WR-CALNAME:Canadian Authors Association
X-ORIGINAL-URL:https://canadianauthors.org/national
X-WR-CALDESC:Events for Canadian Authors Association
BEGIN:VEVENT
DTSTART;TZID=America/Toronto:20180527T130000
DTEND;TZID=America/Toronto:20180527T150000
DTSTAMP:20260420T094334
CREATED:20180501T175010Z
LAST-MODIFIED:20180501T175010Z
UID:18026-1527426000-1527433200@canadianauthors.org
SUMMARY:Waterloo-Wellington Critique Group
DESCRIPTION:Give and receive feedback on your latest piece of writing. Submissions due by May 13th. For more information\, please contact Vanessa Ricci-Thode waterlooauthors@gmail.com 
URL:https://canadianauthors.org/national/event/waterloo-wellington-critique-group/
LOCATION:45 Columbia St E\, Waterloo\, ON\, N2J 3H6\, Canada
CATEGORIES:Critiquing Circle,Meeting
END:VEVENT
END:VCALENDAR