BEGIN:VCALENDAR
VERSION:2.0
PRODID:-//Canadian Authors Association - ECPv4.6.10.1//NONSGML v1.0//EN
CALSCALE:GREGORIAN
METHOD:PUBLISH
X-WR-CALNAME:Canadian Authors Association
X-ORIGINAL-URL:https://canadianauthors.org/national
X-WR-CALDESC:Events for Canadian Authors Association
BEGIN:VEVENT
DTSTART;TZID=America/Toronto:20201002T223000
DTEND;TZID=America/Toronto:20201003T000000
DTSTAMP:20260422T135525
CREATED:20200917T030229Z
LAST-MODIFIED:20200917T030229Z
UID:27970-1601677800-1601683200@canadianauthors.org
SUMMARY:Victoria Festival of Authors: Queer Existence is Resistance: the Power of QT2BIPOC Futurisms
DESCRIPTION:With Serena Bhandar\, Danny Ramadan and jaye simpson \n \n  \n  \n  \n  \n  \nAs QT2BIPOC\, our existence is science fiction. We live as a product of our ancestor’s collective dreams\, imagination\, and their relentless fight against the post-apocalyptic regime of European colonization. As we sit twenty years into the new century\, uprisings grow\, and the call for change is making people ask\, “If not this world\, then what?” \nIn this panel discussion\, explore the power and importance of QT2BIPOC futurisms in shaping and reframing the world we currently inhabit. We will discuss the importance of storytelling\, writing through our own personal truths\, magic\, and the role of the artist in this time of uprising\, burning\, and re-creation. We will discuss joy as revolution\, queer love\, and the ever-important question\, “What next?” \nCurated and moderated by K.P Dennis and sponsored by Victoria Arts Council. Closed-Captioned. \nFREE\, BUT REGISTRATION REQUIRED. REGISTER HERE. 
URL:https://canadianauthors.org/national/event/victoria-festival-of-authors-queer-existence-is-resistance-the-power-of-qt2bipoc-futurisms/
CATEGORIES:Book Fair,Festival,Panel,Reading,Virtual Festival
END:VEVENT
END:VCALENDAR