BEGIN:VCALENDAR
VERSION:2.0
PRODID:-//Canadian Authors Association - ECPv4.6.10.1//NONSGML v1.0//EN
CALSCALE:GREGORIAN
METHOD:PUBLISH
X-WR-CALNAME:Canadian Authors Association
X-ORIGINAL-URL:https://canadianauthors.org/national
X-WR-CALDESC:Events for Canadian Authors Association
BEGIN:VEVENT
DTSTART;TZID=America/Toronto:20230812T100000
DTEND;TZID=America/Toronto:20230812T170000
DTSTAMP:20260422T122426
CREATED:20230525T192520Z
LAST-MODIFIED:20230525T192520Z
UID:49657-1691834400-1691859600@canadianauthors.org
SUMMARY:Mind-body Writing & Personal Leadership Retreat at The Yurt
DESCRIPTION:Join us for a full day of writing and mind-body exercises that will help you to dissolve blocks and connect/reconnect with your deeper creative self. Artists\, writers\, and businesspeople alike will find benefits from refining vision\, reawakening creative reserves\, and refocusing energy. This mind-body workshop will focus on how to establish a deeper purpose and reconnect with our full creative potential. We will practice yoga\, qigong\, breathwork\, and writing/personal empowerment exercises that will imbue your life with creativity and flow. \nSome yoga or meditation experience is a plus\, but all levels are welcome. This will be a safe/brave place to explore and create. \nUse code “UNLEASH” for a $50 discount. \nFor more information and registration: https://www.unleashcreatives.com/event-details/mind-body-writing-personal-leadership-retreat-at-the-yurt 
URL:https://canadianauthors.org/national/event/mind-body-writing-personal-leadership-retreat-at-the-yurt/
ATTACH;FMTTYPE=image/png:https://canadianauthors.org/national/wp-content/uploads/2023/05/Unleash-Creatives-Logo-2022.png
END:VEVENT
END:VCALENDAR