BEGIN:VCALENDAR
VERSION:2.0
PRODID:-//Canadian Authors Association - ECPv4.6.10.1//NONSGML v1.0//EN
CALSCALE:GREGORIAN
METHOD:PUBLISH
X-WR-CALNAME:Canadian Authors Association
X-ORIGINAL-URL:https://canadianauthors.org/national
X-WR-CALDESC:Events for Canadian Authors Association
BEGIN:VEVENT
DTSTART;VALUE=DATE:20200926
DTEND;VALUE=DATE:20200927
DTSTAMP:20260420T114735
CREATED:20200717T164924Z
LAST-MODIFIED:20200717T164924Z
UID:27051-1601078400-1601164799@canadianauthors.org
SUMMARY:Kingston WritersFest 2020 Virtual Festival
DESCRIPTION:The Kingston WritersFest 2020 virtual festival takes place September 23-27\, 2020\, with more than 60 writers in nearly 50 events over 5 days! \nTickets on sale in July. \nThe work is being done on programming another diverse festival with nearly 50 unique events for readers of every age and taste\, designed for maximum audience participation\, with time for questions and a chance to engage with authors as they sign books. \nThe festival will include the stories of women\, the stories of Indigenous writers\, writers of different experiences\, cultural backgrounds\, and orientations. \n  
URL:https://canadianauthors.org/national/event/kingston-writersfest-2020-virtual-festival-4/
CATEGORIES:Book Fair,Virtual Festival
END:VEVENT
END:VCALENDAR