BEGIN:VCALENDAR
VERSION:2.0
PRODID:-//Canadian Authors Association - ECPv4.6.10.1//NONSGML v1.0//EN
CALSCALE:GREGORIAN
METHOD:PUBLISH
X-WR-CALNAME:Canadian Authors Association
X-ORIGINAL-URL:https://canadianauthors.org/national
X-WR-CALDESC:Events for Canadian Authors Association
BEGIN:VEVENT
DTSTART;TZID=America/Vancouver:20181114T190000
DTEND;TZID=America/Vancouver:20181114T210000
DTSTAMP:20260420T114818
CREATED:20181111T020729Z
LAST-MODIFIED:20181112T210550Z
UID:19626-1542222000-1542229200@canadianauthors.org
SUMMARY:Canadian Authors - Metro Vancouver: Getting the Story Out: Anatomy of a Disaster
DESCRIPTION:Getting the Story Out: Anatomy of a Disaster – Banda Aceh\, Indonesia\, with international award-winning journalist Russ Froese. \nCost: Members no charge\, Guests: $10\, Students with ID: $5 
URL:https://canadianauthors.org/national/event/getting-the-story-out-anatomy-of-a-disaster/
LOCATION:100 - 938 Howe Street\, Vancouver\, British Columbia\, V6Z 1N9\, Canada
GEO:49.2803253;-123.1227906
X-APPLE-STRUCTURED-LOCATION;VALUE=URI;X-ADDRESS=100 - 938 Howe Street Vancouver British Columbia V6Z 1N9 Canada;X-APPLE-RADIUS=500;X-TITLE=100 - 938 Howe Street:geo:-123.1227906,49.2803253
CATEGORIES:Meeting
END:VEVENT
END:VCALENDAR