BEGIN:VCALENDAR
VERSION:2.0
PRODID:-//Canadian Authors Association - ECPv4.6.10.1//NONSGML v1.0//EN
CALSCALE:GREGORIAN
METHOD:PUBLISH
X-WR-CALNAME:Canadian Authors Association
X-ORIGINAL-URL:https://canadianauthors.org/national
X-WR-CALDESC:Events for Canadian Authors Association
BEGIN:VEVENT
DTSTART;TZID=America/Toronto:20200806T200000
DTEND;TZID=America/Toronto:20200806T210000
DTSTAMP:20260420T101216
CREATED:20200625T205929Z
LAST-MODIFIED:20200625T205929Z
UID:26644-1596744000-1596747600@canadianauthors.org
SUMMARY:Eden Mills Writers’ Festival - Panel: In the Lead
DESCRIPTION:EMWF In Your Own Backyard Online Series \n \n  \n  \n  \n  \nEMWF Panel: In the Lead \n \n  \n  \n  \n  \n  \n  \nPresenters: Sheena Kamal\, Fight Like a Girl\, Rob Shapiro\, The Book of Sam\, and Lindsay Wong\, My Summer of Love and Misfortune\nHost: Eric Walters \nWhat does it take to craft a compelling leading character? What do writers do to make us fall in love with\, turn away from\, follow\, root for\, or laugh at their protagonists? How does a writer know if their character’s voice is authentic? Explore all this and more in this fun and entertaining panel lead by reader-favourite\, Eric Walters! \nThis event includes closed captioning. \nRegister HERE. 
URL:https://canadianauthors.org/national/event/eden-mills-writers-festival-panel-in-the-lead/
CATEGORIES:Panel,Presentation,Reading,Virtual Festival
END:VEVENT
END:VCALENDAR