BEGIN:VCALENDAR
VERSION:2.0
PRODID:-//Canadian Authors Association - ECPv4.6.10.1//NONSGML v1.0//EN
CALSCALE:GREGORIAN
METHOD:PUBLISH
X-WR-CALNAME:Canadian Authors Association
X-ORIGINAL-URL:https://canadianauthors.org/national
X-WR-CALDESC:Events for Canadian Authors Association
BEGIN:VEVENT
DTSTART;TZID=America/Toronto:20201110T190000
DTEND;TZID=America/Toronto:20201110T203000
DTSTAMP:20260422T135526
CREATED:20201028T161737Z
LAST-MODIFIED:20201101T015653Z
UID:28678-1605034800-1605040200@canadianauthors.org
SUMMARY:Canadian Authors – National Capital Region: Writing Short Stories with Anna Rumin
DESCRIPTION:Join us for inspiration and expert tips to help complete a short story that will grab and hold readers. \nFree virtual workshop via Zoom. Open to the public. Contact NCRadmin@canadianauthors.org to join. \n  \n \n  \n\n\n\n  \n  \n  \n  \n  \n  \n  \n  \n  \n  \n  \n  \n  \nDr. Anna Rumin is a native Montrealer whose identity has been shaped by the political landscape of her home province\, her Russian roots\, a passion for life-long learning that has been woven both formally in academia and informally through travel\, voracious reading and writing\, and a love for the stories hidden in our natural world. Her interest in narrative inquiry stems from her belief that not only do we all have a story to tell\, but that our stories help us to better understand who we were\, who we are and who we are becoming. She has designed ten memoir-based writing courses that invite participants to think of themselves as the narrators of their life as seen and written through a particular lens. Anna writes short fiction and has been the recipient of numerous awards. \n\n
URL:https://canadianauthors.org/national/event/canadian-authors-national-capital-region-presents-writing-short-stories-with-anna-rumin/
CATEGORIES:Presentation,Virtual meeting,Virtual Writing Workshop,Workshop
END:VEVENT
END:VCALENDAR