BEGIN:VCALENDAR
VERSION:2.0
PRODID:-//Canadian Authors Association - ECPv4.6.10.1//NONSGML v1.0//EN
CALSCALE:GREGORIAN
METHOD:PUBLISH
X-WR-CALNAME:Canadian Authors Association
X-ORIGINAL-URL:https://canadianauthors.org/national
X-WR-CALDESC:Events for Canadian Authors Association
BEGIN:VEVENT
DTSTART;TZID=America/Toronto:20210519T190000
DTEND;TZID=America/Toronto:20210519T203000
DTSTAMP:20260422T083840
CREATED:20210511T155141Z
LAST-MODIFIED:20210511T155453Z
UID:32829-1621450800-1621456200@canadianauthors.org
SUMMARY:CAA/SFC Webinar: Backstory Secrets
DESCRIPTION:Backstory is tricky to interweave into your story effectively. Often\, our mistake is to introduce it too soon\, or all at once in one large infodump. When and how can it be feathered in effectively? Think of your backstory as a series of secrets your protagonist does not want to reveal. Make your audience hungry for backstory and deliver it at just the right moment! \nAs a result of attending this session\, attendees will be able to: distinguish between character biography and backstory; identify places in their own fiction where the power of backstory is lost because it is introduced too soon\, in the wrong place\, or too much is given at once; recognize the importance of backstory for their own understanding of their characters; recognize the power of backstory to deepen character\, to provide motivation to a character who has been defeated to keep going at all costs\, and to heighten the drama of a story; and use multiple techniques to introduce backstory effectively. \nPresenter: Susan Forest\nLength: 90 minutes (including Q&A)\nLevel: Basic and Intermediate\nType: Informational \nCOST: This series is free due to COVID-19’s impact on the writing community; space in the live event is limited to the first 100. \n  \nRegister for Backstory Secrets \n  \nAbout the Presenter \nSusan Forest is the author of Aurora Award-winning Bursts of Fire (2019)\, as well as over 25 internationally published short stories. She edits an award-winning anthology series for Laksa Media\, and will be Editor Guest of Honour at Keycon in 2021. The second novel of her seven-volume Addicted to Heaven series\, Flights of Marigold (Publisher’s Lunch Selection)\, confronts issues of addictions in an epic fantasy world of intrigue and betrayal. \nTwitter: @susanjforest\nFacebook:: Susan Forest\nLinkedIn: https://www.linkedin.com/in/susan-forest-84220153/\nWebsite:  http://speculative-fiction.ca/ \n  \nCan’t attend on that particular date? No problem — as long as you’re registered\, we’ll send you a link to the recording within 48 hours of the live webinar. 
URL:https://canadianauthors.org/national/event/caa-sfc-webinar-backstory-secrets/
CATEGORIES:Presentation,Virtual Event,Webinar
ATTACH;FMTTYPE=image/jpeg:https://canadianauthors.org/national/wp-content/uploads/2021/05/Susan-Forest-Author-Headshot-e1620748392482.jpg
END:VEVENT
END:VCALENDAR