BEGIN:VCALENDAR
VERSION:2.0
PRODID:-//Canadian Authors Association - ECPv4.6.10.1//NONSGML v1.0//EN
CALSCALE:GREGORIAN
METHOD:PUBLISH
X-WR-CALNAME:Canadian Authors Association
X-ORIGINAL-URL:https://canadianauthors.org/national
X-WR-CALDESC:Events for Canadian Authors Association
BEGIN:VEVENT
DTSTART;TZID=America/Toronto:20180704T180000
DTEND;TZID=America/Toronto:20180704T200000
DTSTAMP:20260420T101311
CREATED:20180626T193612Z
LAST-MODIFIED:20180626T193612Z
UID:18549-1530727200-1530734400@canadianauthors.org
SUMMARY:CAA Niagara Branch Memoir Writers Group
DESCRIPTION:Critique session for a group of local writers to give and get feedback. For more information please contact Jan Barrett 905 984 3255 
URL:https://canadianauthors.org/national/event/caa-niagara-branch-memoir-writers-group/2018-07-04/
LOCATION:54 Church St.\, St. Catharines\, Ontario\, L2R 7K2\, Canada
GEO:43.1603307;-79.2460639
X-APPLE-STRUCTURED-LOCATION;VALUE=URI;X-ADDRESS=54 Church St. St. Catharines Ontario L2R 7K2 Canada;X-APPLE-RADIUS=500;X-TITLE=54 Church St.:geo:-79.2460639,43.1603307
END:VEVENT
END:VCALENDAR