BEGIN:VCALENDAR
VERSION:2.0
PRODID:-//Canadian Authors Association - ECPv4.6.10.1//NONSGML v1.0//EN
CALSCALE:GREGORIAN
METHOD:PUBLISH
X-WR-CALNAME:Canadian Authors Association
X-ORIGINAL-URL:https://canadianauthors.org/national
X-WR-CALDESC:Events for Canadian Authors Association
BEGIN:VEVENT
DTSTART;TZID=America/Toronto:20200611T170000
DTEND;TZID=America/Toronto:20200611T183000
DTSTAMP:20260420T082331
CREATED:20200508T223417Z
LAST-MODIFIED:20200508T223521Z
UID:26001-1591894800-1591900200@canadianauthors.org
SUMMARY:Inanna Spring Book Launch #1
DESCRIPTION: \n  \nJoin Inanna Publications for a virtual evening of readings and revelry featuring Lisa Braxton\, author of The Talking Drum\, Paul Butler\, author of Mina’s Child\, April Ford\, author of Carousel\, Rebecca Luce-Kapler\, author of The Negation of Chronology: Imagining Geraldine Moodie\, and Ursula Pflug\, author of Seeds and Other Stories. \nBooks discounted for event\, Author Q & A & more! \nRegister now! 
URL:https://canadianauthors.org/national/event/26001/
CATEGORIES:Book Launch,Virtual Book Launch
END:VEVENT
END:VCALENDAR